BEGIN:VCALENDAR
VERSION:2.0
PRODID:-//The ABL - ECPv6.15.20//NONSGML v1.0//EN
CALSCALE:GREGORIAN
METHOD:PUBLISH
X-ORIGINAL-URL:https://abl.beer
X-WR-CALDESC:Events for The ABL
REFRESH-INTERVAL;VALUE=DURATION:PT1H
X-Robots-Tag:noindex
X-PUBLISHED-TTL:PT1H
BEGIN:VTIMEZONE
TZID:America/New_York
BEGIN:DAYLIGHT
TZOFFSETFROM:-0500
TZOFFSETTO:-0400
TZNAME:EDT
DTSTART:20250309T070000
END:DAYLIGHT
BEGIN:STANDARD
TZOFFSETFROM:-0400
TZOFFSETTO:-0500
TZNAME:EST
DTSTART:20251102T060000
END:STANDARD
BEGIN:DAYLIGHT
TZOFFSETFROM:-0500
TZOFFSETTO:-0400
TZNAME:EDT
DTSTART:20260308T070000
END:DAYLIGHT
BEGIN:STANDARD
TZOFFSETFROM:-0400
TZOFFSETTO:-0500
TZNAME:EST
DTSTART:20261101T060000
END:STANDARD
BEGIN:DAYLIGHT
TZOFFSETFROM:-0500
TZOFFSETTO:-0400
TZNAME:EDT
DTSTART:20270314T070000
END:DAYLIGHT
BEGIN:STANDARD
TZOFFSETFROM:-0400
TZOFFSETTO:-0500
TZNAME:EST
DTSTART:20271107T060000
END:STANDARD
END:VTIMEZONE
BEGIN:VEVENT
DTSTART;TZID=America/New_York:20260422T160000
DTEND;TZID=America/New_York:20260422T210000
DTSTAMP:20260421T212906
CREATED:20260421T165102Z
LAST-MODIFIED:20260421T165102Z
UID:3495-1776873600-1776891600@abl.beer
SUMMARY:Dungeons\, Dragons & Drafts - 04-22-26
DESCRIPTION:Calling all DnD fans\, new and old! Come quench your thirst FOR ADVENTURE at The ABL’s: Dungeons\, Dragons & Drafts.\nStarts at 4 but come whenever. No experience necessary. We will have dice. We will have paper. We will have pencils. We will have romanceable NPCs and inappropriate story plot lines!\nDust off your old trusty character sheet or craft a new one with us- Pre-made characters are also ready and waiting. \nhttps://www.facebook.com/profile.php?id=61569102280187
URL:https://abl.beer/event/dungeons-dragons-drafts-04-22-26/
LOCATION:The ABL\, 14135 7th St.\, Dade City\, FL\, 33525\, United States
ATTACH;FMTTYPE=image/jpeg:https://abl.beer/wp-content/uploads/2024/12/469676822_122112973580636742_4699621431950680841_n.jpg
END:VEVENT
BEGIN:VEVENT
DTSTART;TZID=America/New_York:20260423T190000
DTEND;TZID=America/New_York:20260423T213000
DTSTAMP:20260421T212906
CREATED:20260302T142810Z
LAST-MODIFIED:20260421T170018Z
UID:3437-1776970800-1776979800@abl.beer
SUMMARY:Trivia Thursday with Weiss – 04-23-26
DESCRIPTION:Come out to The ABL every other Thursday for trivia with Weiss!\nGeneral knowledge trivia is 6 rounds with 3 questions per round\, a half time and final question to wager points for the win.
URL:https://abl.beer/event/trivia-thursday-with-weiss-04-23-26/
LOCATION:The ABL\, 14135 7th St.\, Dade City\, FL\, 33525\, United States
ATTACH;FMTTYPE=image/jpeg:https://abl.beer/wp-content/uploads/2026/03/Trivia-Weiss-Th-2.jpg
END:VEVENT
BEGIN:VEVENT
DTSTART;TZID=America/New_York:20260429T160000
DTEND;TZID=America/New_York:20260429T210000
DTSTAMP:20260421T212906
CREATED:20260421T165159Z
LAST-MODIFIED:20260421T165159Z
UID:3497-1777478400-1777496400@abl.beer
SUMMARY:Dungeons\, Dragons & Drafts - 04-29-26
DESCRIPTION:Calling all DnD fans\, new and old! Come quench your thirst FOR ADVENTURE at The ABL’s: Dungeons\, Dragons & Drafts.\nStarts at 4 but come whenever. No experience necessary. We will have dice. We will have paper. We will have pencils. We will have romanceable NPCs and inappropriate story plot lines!\nDust off your old trusty character sheet or craft a new one with us- Pre-made characters are also ready and waiting. \nhttps://www.facebook.com/profile.php?id=61569102280187
URL:https://abl.beer/event/dungeons-dragons-drafts-04-29-26/
LOCATION:The ABL\, 14135 7th St.\, Dade City\, FL\, 33525\, United States
ATTACH;FMTTYPE=image/jpeg:https://abl.beer/wp-content/uploads/2024/12/469676822_122112973580636742_4699621431950680841_n.jpg
END:VEVENT
BEGIN:VEVENT
DTSTART;TZID=America/New_York:20260430T173000
DTEND;TZID=America/New_York:20260430T193000
DTSTAMP:20260421T212906
CREATED:20260311T135114Z
LAST-MODIFIED:20260311T135114Z
UID:3461-1777570200-1777577400@abl.beer
SUMMARY:Painting & Pints – Paint Your Pet – 04-30-26
DESCRIPTION:Join us for a specialty paint your pets class! We’ll assist you step by step to paint your pet onto canvas. Canvas will be pre sketched prior to the class. First drink included!\nAll supplies are included\, once registered please send a clear headshot photo to travelingartparties@gmail.com and in the subject “The ABL”. This is a non refundable class. Please arrive at least ten minutes prior to check in and pick your background color. \nPURCHASE TICKETS HERE!!
URL:https://abl.beer/event/painting-pints-paint-your-pet-04-30-26/
LOCATION:The ABL\, 14135 7th St.\, Dade City\, FL\, 33525\, United States
ATTACH;FMTTYPE=image/jpeg:https://abl.beer/wp-content/uploads/2026/03/TAP-Pets-Heart.jpg
ORGANIZER;CN="Traveling Art Parties":MAILTO:Travelingartparties@gmail.com
END:VEVENT
BEGIN:VEVENT
DTSTART;TZID=America/New_York:20260506T160000
DTEND;TZID=America/New_York:20260506T210000
DTSTAMP:20260421T212906
CREATED:20260421T165250Z
LAST-MODIFIED:20260421T165250Z
UID:3499-1778083200-1778101200@abl.beer
SUMMARY:Dungeons\, Dragons & Drafts - 05-06-26
DESCRIPTION:Calling all DnD fans\, new and old! Come quench your thirst FOR ADVENTURE at The ABL’s: Dungeons\, Dragons & Drafts.\nStarts at 4 but come whenever. No experience necessary. We will have dice. We will have paper. We will have pencils. We will have romanceable NPCs and inappropriate story plot lines!\nDust off your old trusty character sheet or craft a new one with us- Pre-made characters are also ready and waiting. \nhttps://www.facebook.com/profile.php?id=61569102280187
URL:https://abl.beer/event/dungeons-dragons-drafts-05-06-26/
LOCATION:The ABL\, 14135 7th St.\, Dade City\, FL\, 33525\, United States
ATTACH;FMTTYPE=image/jpeg:https://abl.beer/wp-content/uploads/2024/12/469676822_122112973580636742_4699621431950680841_n.jpg
END:VEVENT
BEGIN:VEVENT
DTSTART;TZID=America/New_York:20260507T190000
DTEND;TZID=America/New_York:20260507T203000
DTSTAMP:20260421T212906
CREATED:20260421T170111Z
LAST-MODIFIED:20260421T170111Z
UID:3508-1778180400-1778185800@abl.beer
SUMMARY:Trivia Thursday with Weiss – 05-07-26
DESCRIPTION:Come out to The ABL every other Thursday for trivia with Weiss!\nGeneral knowledge trivia is 6 rounds with 3 questions per round\, a half time and final question to wager points for the win.
URL:https://abl.beer/event/trivia-thursday-with-weiss-05-07-26/
LOCATION:The ABL\, 14135 7th St.\, Dade City\, FL\, 33525\, United States
ATTACH;FMTTYPE=image/jpeg:https://abl.beer/wp-content/uploads/2026/03/Trivia-Weiss-Th-2.jpg
END:VEVENT
BEGIN:VEVENT
DTSTART;TZID=America/New_York:20260508T130000
DTEND;TZID=America/New_York:20260508T210000
DTSTAMP:20260421T212906
CREATED:20260304T152738Z
LAST-MODIFIED:20260304T152738Z
UID:3454-1778245200-1778274000@abl.beer
SUMMARY:Florida Pint Day - 05-08-26
DESCRIPTION:Celebrate Florida Pint Day with us!\nWe’re excited to offer a limited-edition pint glass to mark the occasion. With only 24 glasses available\, you won’t want to miss out! These exclusive glasses aren’t available at all breweries\, so be sure to stop by early to snag yours.
URL:https://abl.beer/event/florida-pint-day-05-08-26/
LOCATION:The ABL\, 14135 7th St.\, Dade City\, FL\, 33525\, United States
ATTACH;FMTTYPE=image/jpeg:https://abl.beer/wp-content/uploads/2026/03/PintDay-2026.jpg
END:VEVENT
BEGIN:VEVENT
DTSTART;TZID=America/New_York:20260513T160000
DTEND;TZID=America/New_York:20260513T190000
DTSTAMP:20260421T212906
CREATED:20260319T174920Z
LAST-MODIFIED:20260319T174953Z
UID:3468-1778688000-1778698800@abl.beer
SUMMARY:Yo Pauley’s Pizza – Food Truck - 05-13-26
DESCRIPTION:Yo Pauley’s Pizza Cart will be set up in #dadecity next to The ABL Brewing from 4-7 (or sell out). They will be serving up THIN CRUST NEW YORK STYLE & DEEP-DISH DETROIT STYLE. Stop on by for some cold craft beers and delicious pizzas.
URL:https://abl.beer/event/yo-pauleys-pizza-food-truck-05-13-26/
LOCATION:The ABL\, 14135 7th St.\, Dade City\, FL\, 33525\, United States
ATTACH;FMTTYPE=image/jpeg:https://abl.beer/wp-content/uploads/2024/08/Yo-Pauleys.jpg
END:VEVENT
BEGIN:VEVENT
DTSTART;TZID=America/New_York:20260513T160000
DTEND;TZID=America/New_York:20260513T210000
DTSTAMP:20260421T212906
CREATED:20260421T165335Z
LAST-MODIFIED:20260421T165335Z
UID:3501-1778688000-1778706000@abl.beer
SUMMARY:Dungeons\, Dragons & Drafts - 05-13-26
DESCRIPTION:Calling all DnD fans\, new and old! Come quench your thirst FOR ADVENTURE at The ABL’s: Dungeons\, Dragons & Drafts.\nStarts at 4 but come whenever. No experience necessary. We will have dice. We will have paper. We will have pencils. We will have romanceable NPCs and inappropriate story plot lines!\nDust off your old trusty character sheet or craft a new one with us- Pre-made characters are also ready and waiting. \nhttps://www.facebook.com/profile.php?id=61569102280187
URL:https://abl.beer/event/dungeons-dragons-drafts-05-13-26/
LOCATION:The ABL\, 14135 7th St.\, Dade City\, FL\, 33525\, United States
ATTACH;FMTTYPE=image/jpeg:https://abl.beer/wp-content/uploads/2024/12/469676822_122112973580636742_4699621431950680841_n.jpg
END:VEVENT
BEGIN:VEVENT
DTSTART;TZID=America/New_York:20260516T160000
DTEND;TZID=America/New_York:20260516T180000
DTSTAMP:20260421T212906
CREATED:20260421T170636Z
LAST-MODIFIED:20260421T170636Z
UID:3512-1778947200-1778954400@abl.beer
SUMMARY:Painting & Pints – Stone Book Pavers - 05-16-26
DESCRIPTION:Join us for our book themed class for the night! All supplies are included. Please bring your favorite book or cover photo and we will guide you step by step to create your book paver! No experience needed!\nAll supplies are included. Please arrive at least ten minutes prior to check in. This is a non refundable class. First drink is included! \nPURCHASE TICKETS HERE!!
URL:https://abl.beer/event/painting-pints-stone-book-pavers-05-16-26/
LOCATION:The ABL\, 14135 7th St.\, Dade City\, FL\, 33525\, United States
ATTACH;FMTTYPE=image/jpeg:https://abl.beer/wp-content/uploads/2026/04/TAP-Book-Pavers.jpg
ORGANIZER;CN="Traveling Art Parties":MAILTO:Travelingartparties@gmail.com
END:VEVENT
BEGIN:VEVENT
DTSTART;TZID=America/New_York:20260520T160000
DTEND;TZID=America/New_York:20260520T210000
DTSTAMP:20260421T212906
CREATED:20260421T165417Z
LAST-MODIFIED:20260421T165417Z
UID:3503-1779292800-1779310800@abl.beer
SUMMARY:Dungeons\, Dragons & Drafts - 05-20-26
DESCRIPTION:Calling all DnD fans\, new and old! Come quench your thirst FOR ADVENTURE at The ABL’s: Dungeons\, Dragons & Drafts.\nStarts at 4 but come whenever. No experience necessary. We will have dice. We will have paper. We will have pencils. We will have romanceable NPCs and inappropriate story plot lines!\nDust off your old trusty character sheet or craft a new one with us- Pre-made characters are also ready and waiting. \nhttps://www.facebook.com/profile.php?id=61569102280187
URL:https://abl.beer/event/dungeons-dragons-drafts-05-20-26/
LOCATION:The ABL\, 14135 7th St.\, Dade City\, FL\, 33525\, United States
ATTACH;FMTTYPE=image/jpeg:https://abl.beer/wp-content/uploads/2024/12/469676822_122112973580636742_4699621431950680841_n.jpg
END:VEVENT
BEGIN:VEVENT
DTSTART;TZID=America/New_York:20260521T190000
DTEND;TZID=America/New_York:20260521T203000
DTSTAMP:20260421T212906
CREATED:20260421T170228Z
LAST-MODIFIED:20260421T170228Z
UID:3510-1779390000-1779395400@abl.beer
SUMMARY:Trivia Thursday with Weiss – 05-21-26
DESCRIPTION:Come out to The ABL every other Thursday for trivia with Weiss!\nGeneral knowledge trivia is 6 rounds with 3 questions per round\, a half time and final question to wager points for the win.
URL:https://abl.beer/event/trivia-thursday-with-weiss-05-21-26/
LOCATION:The ABL\, 14135 7th St.\, Dade City\, FL\, 33525\, United States
ATTACH;FMTTYPE=image/jpeg:https://abl.beer/wp-content/uploads/2026/03/Trivia-Weiss-Th-2.jpg
END:VEVENT
BEGIN:VEVENT
DTSTART;TZID=America/New_York:20260523T150000
DTEND;TZID=America/New_York:20260523T170000
DTSTAMP:20260421T212906
CREATED:20260401T144636Z
LAST-MODIFIED:20260401T144636Z
UID:3479-1779548400-1779555600@abl.beer
SUMMARY:"Ink on Ice" Launch Party & Meet the Author
DESCRIPTION:Join Florida’s newest author T.J. Fernandez for a relaxed night of hockey\, storytelling\, and great beer as we officially launch the book. This is a casual meet-and-greet where you can grab a drink\, talk about the story\, and get your copy signed.\nWhether you’ve been following the journey or are just hearing about the book for the first time\, this is a chance to step into the world of Ink on Ice—from the rink to the newsroom. \nWant to ensure your copy will be there? Then fill out this form! \nhttps://forms.gle/2ieBcZwc14GxBahv6
URL:https://abl.beer/event/ink-on-ice-launch-party-meet-the-author/
LOCATION:The ABL\, 14135 7th St.\, Dade City\, FL\, 33525\, United States
ATTACH;FMTTYPE=image/jpeg:https://abl.beer/wp-content/uploads/2026/04/05-23-2026-TJ-Fernandez-Ink-on-Ice.jpg
END:VEVENT
BEGIN:VEVENT
DTSTART;TZID=America/New_York:20260527T160000
DTEND;TZID=America/New_York:20260527T210000
DTSTAMP:20260421T212906
CREATED:20260421T165503Z
LAST-MODIFIED:20260421T165503Z
UID:3505-1779897600-1779915600@abl.beer
SUMMARY:Dungeons\, Dragons & Drafts - 05-27-26
DESCRIPTION:Calling all DnD fans\, new and old! Come quench your thirst FOR ADVENTURE at The ABL’s: Dungeons\, Dragons & Drafts.\nStarts at 4 but come whenever. No experience necessary. We will have dice. We will have paper. We will have pencils. We will have romanceable NPCs and inappropriate story plot lines!\nDust off your old trusty character sheet or craft a new one with us- Pre-made characters are also ready and waiting. \nhttps://www.facebook.com/profile.php?id=61569102280187
URL:https://abl.beer/event/dungeons-dragons-drafts-05-27-26/
LOCATION:The ABL\, 14135 7th St.\, Dade City\, FL\, 33525\, United States
ATTACH;FMTTYPE=image/jpeg:https://abl.beer/wp-content/uploads/2024/12/469676822_122112973580636742_4699621431950680841_n.jpg
END:VEVENT
END:VCALENDAR